BEGIN:VCALENDAR
PRODID:brasil.gov.agenda
VERSION:1.0
BEGIN:VEVENT
DTSTART:20230504T100000Z
DTEND:20230505T180000Z
DCREATED:20230315T132115Z
UID:Compromisso-ffd89a7f980f47b0b195b2d8cb7adcda
SEQUENCE:0
LAST-MODIFIED:20230315T132115Z
SUMMARY:PRPPG UFU
LOCATION:PRPPG\, Campus JK\, Diamantina
PRIORITY:3
TRANSP:0
END:VEVENT
END:VCALENDAR
