BEGIN:VCALENDAR
PRODID:brasil.gov.agenda
VERSION:1.0
BEGIN:VEVENT
DTSTART:20221014T140000Z
DTEND:20221014T150000Z
DCREATED:20221011T103648Z
UID:Compromisso-5c0ced19b7044a90a62eb84f567feeb6
SEQUENCE:0
LAST-MODIFIED:20221011T103648Z
SUMMARY:Reunião reitoria: setores de produção e órgão complementar
LOCATION:PRPPG\, Campus JK\, Diamantina
PRIORITY:3
TRANSP:0
END:VEVENT
END:VCALENDAR
