BEGIN:VCALENDAR
PRODID:brasil.gov.agenda
VERSION:1.0
BEGIN:VEVENT
DTSTART:20221014T080000Z
DTEND:20221014T114500Z
DCREATED:20221011T103539Z
UID:Compromisso-5932b57d18f74ff092139932742c0f50
SEQUENCE:0
LAST-MODIFIED:20221011T103539Z
SUMMARY:Reunião reitoria: apresentação e discussão do relatório final Estudo do impacto dos novos cursos da UFVJM na matriz OCC
LOCATION:PRPPG\, Campus JK\, Diamantina
PRIORITY:3
TRANSP:0
END:VEVENT
END:VCALENDAR
