BEGIN:VCALENDAR
PRODID:brasil.gov.agenda
VERSION:1.0
BEGIN:VEVENT
DTSTART:20221013T140000Z
DTEND:20221013T180000Z
DCREATED:20221011T103750Z
UID:Compromisso-9eea54730d214c7196a39de9881b0e74
SEQUENCE:0
LAST-MODIFIED:20221011T103750Z
SUMMARY:CONSU
LOCATION:PRPPG\, Campus JK\, Diamantina
PRIORITY:3
TRANSP:0
END:VEVENT
END:VCALENDAR
