BEGIN:VCALENDAR
PRODID:brasil.gov.agenda
VERSION:1.0
BEGIN:VEVENT
DTSTART:20221011T080000Z
DTEND:20221011T110000Z
DCREATED:20221011T102915Z
UID:Compromisso-4ce6089670e74dbebca25ad3b536fc68
SEQUENCE:0
LAST-MODIFIED:20221011T102916Z
SUMMARY:Reunião Reitoria/ICA
LOCATION:PRPPG\, Campus JK\, Diamantina
PRIORITY:3
TRANSP:0
END:VEVENT
END:VCALENDAR
