BEGIN:VCALENDAR
PRODID:brasil.gov.agenda
VERSION:1.0
BEGIN:VEVENT
DTSTART:20221011T110000Z
DTEND:20221011T120000Z
DCREATED:20221011T103304Z
UID:Compromisso-0904f308a3b0423590beb7f1419a6099
SEQUENCE:0
LAST-MODIFIED:20221011T103304Z
SUMMARY:Reunião com CITEC (Molina)
LOCATION:PRPPG\, Campus JK\, Diamantina
PRIORITY:3
TRANSP:0
END:VEVENT
END:VCALENDAR
