BEGIN:VCALENDAR
PRODID:brasil.gov.agenda
VERSION:1.0
BEGIN:VEVENT
DTSTART:20221010T113000Z
DTEND:20221010T120000Z
DCREATED:20221010T103830Z
UID:Compromisso-a71b50c4b402429f99471783b2abe1dc
SEQUENCE:0
LAST-MODIFIED:20221010T103830Z
SUMMARY:Recepção de calouros - Graduação
LOCATION:PRPPG\, Campus JK\, Diamantina
PRIORITY:3
TRANSP:0
END:VEVENT
END:VCALENDAR
