BEGIN:VCALENDAR
PRODID:brasil.gov.agenda
VERSION:1.0
BEGIN:VEVENT
DTSTART:20221010T190000Z
DTEND:20221010T193000Z
DCREATED:20221010T103918Z
UID:Compromisso-c8192743882b418ab0c2f124ee8f2d50
SEQUENCE:0
LAST-MODIFIED:20221010T103918Z
SUMMARY:Recepção de calouros - Graduação
LOCATION:PRPPG\, Campus JK\, Diamantina
PRIORITY:3
TRANSP:0
END:VEVENT
END:VCALENDAR
