BEGIN:VCALENDAR
VERSION:2.0
PRODID:-//Plone.org//NONSGML plone.app.event//EN
X-WR-TIMEZONE:America/Sao_Paulo
BEGIN:VEVENT
SUMMARY:Concerto-aula com o professor Marcus Ferrer e Duo Gabriel Tasso e 
 Artur Vidal
DTSTART;TZID=America/Sao_Paulo;VALUE=DATE-TIME:20250722T160000
DTEND;TZID=America/Sao_Paulo;VALUE=DATE-TIME:20250722T180000
DTSTAMP;VALUE=DATE-TIME:20260424T002257Z
UID:c3a5f4e879834efd87975df2aad38b82@portal.ufvjm.edu.br
CREATED;VALUE=DATE-TIME:20250716T144116Z
DESCRIPTION:22 de julho de 2025
LAST-MODIFIED;VALUE=DATE-TIME:20250718T193136Z
LOCATION:Diamantina
URL:https://portal.ufvjm.edu.br/agendas/eventos/concerto-aula-com-o-profes
 sor-doutor-marcus-ferrer-e-duo-gabriel-tasso-e-artur-vidal
END:VEVENT
BEGIN:VTIMEZONE
TZID:America/Sao_Paulo
X-LIC-LOCATION:America/Sao_Paulo
BEGIN:STANDARD
DTSTART;VALUE=DATE-TIME:20250215T230000
TZNAME:BRT
TZOFFSETFROM:-0200
TZOFFSETTO:-0300
END:STANDARD
END:VTIMEZONE
END:VCALENDAR
