BEGIN:VCALENDAR
VERSION:2.0
PRODID:-//Plone.org//NONSGML plone.app.event//EN
X-WR-TIMEZONE:America/Sao_Paulo
BEGIN:VEVENT
SUMMARY:Vila Café
DTSTART;TZID=America/Sao_Paulo;VALUE=DATE-TIME:20250920T090000
DTEND;TZID=America/Sao_Paulo;VALUE=DATE-TIME:20250921T120000
DTSTAMP;VALUE=DATE-TIME:20260423T160216Z
UID:0066fcbc0f7b478294b9f7cb54c93a60@portal.ufvjm.edu.br
CREATED;VALUE=DATE-TIME:20250919T153522Z
DESCRIPTION:20 e 21 de setembro de 2025
LAST-MODIFIED;VALUE=DATE-TIME:20250919T200034Z
LOCATION:Diamantina
URL:https://portal.ufvjm.edu.br/agendas/eventos/2025/vila-cafe
END:VEVENT
BEGIN:VTIMEZONE
TZID:America/Sao_Paulo
X-LIC-LOCATION:America/Sao_Paulo
BEGIN:STANDARD
DTSTART;VALUE=DATE-TIME:20250215T230000
TZNAME:BRT
TZOFFSETFROM:-0200
TZOFFSETTO:-0300
END:STANDARD
END:VTIMEZONE
END:VCALENDAR
