BEGIN:VCALENDAR
VERSION:2.0
PRODID:-//Plone.org//NONSGML plone.app.event//EN
X-WR-TIMEZONE:America/Sao_Paulo
BEGIN:VEVENT
SUMMARY:Reunião aberta do Grupo de Trabalho Interministerial Jequitinhonh
 a
DTSTART;TZID=America/Sao_Paulo;VALUE=DATE-TIME:20250929T090000
DTEND;TZID=America/Sao_Paulo;VALUE=DATE-TIME:20250929T180000
DTSTAMP;VALUE=DATE-TIME:20260423T081915Z
UID:c9310836959b4be086e94806d3ce3711@portal.ufvjm.edu.br
CATEGORIES:Diamantina
CATEGORIES:Evento
CREATED;VALUE=DATE-TIME:20250926T174625Z
DESCRIPTION:29 de setembro
LAST-MODIFIED;VALUE=DATE-TIME:20250926T190627Z
LOCATION:Diamantina
URL:https://portal.ufvjm.edu.br/agendas/eventos/2025/ufvjm-participa-de-re
 uniao-aberta-do-grupo-de-trabalho-interministerial-jequitinhonha
END:VEVENT
BEGIN:VTIMEZONE
TZID:America/Sao_Paulo
X-LIC-LOCATION:America/Sao_Paulo
BEGIN:STANDARD
DTSTART;VALUE=DATE-TIME:20250215T230000
TZNAME:BRT
TZOFFSETFROM:-0200
TZOFFSETTO:-0300
END:STANDARD
END:VTIMEZONE
END:VCALENDAR
