BEGIN:VCALENDAR
VERSION:2.0
PRODID:-//Plone.org//NONSGML plone.app.event//EN
X-WR-TIMEZONE:America/Sao_Paulo
BEGIN:VEVENT
SUMMARY:Sintegra 2025
DTSTART;VALUE=DATE:20251006
DTEND;VALUE=DATE:20251010
DTSTAMP;VALUE=DATE-TIME:20260424T045040Z
UID:52e05814cb804b079a02cccdf3197437@portal.ufvjm.edu.br
CONTACT:https://www.even3.com.br/sintegra2025-575811/
CREATED;VALUE=DATE-TIME:20250610T190355Z
DESCRIPTION:6 a 9 de outubro
LAST-MODIFIED;VALUE=DATE-TIME:20250610T194527Z
LOCATION:Campus JK - Diamantina
URL:https://portal.ufvjm.edu.br/agendas/eventos/2025/sintegra-2025
END:VEVENT
END:VCALENDAR
