BEGIN:VCALENDAR
VERSION:2.0
PRODID:-//Plone.org//NONSGML plone.app.event//EN
X-WR-TIMEZONE:America/Sao_Paulo
BEGIN:VEVENT
SUMMARY:Simpósio Internacional Vozes dos Territórios Além da Cortina Ve
 rde: conectando lutas pela sobrevivência na fronteira energética
DTSTART;TZID=America/Sao_Paulo;VALUE=DATE-TIME:20250925T053000
DTEND;TZID=America/Sao_Paulo;VALUE=DATE-TIME:20250926T163000
DTSTAMP;VALUE=DATE-TIME:20260423T081939Z
UID:89d07db198be4da39c25987a97258b7d@portal.ufvjm.edu.br
CREATED;VALUE=DATE-TIME:20250922T143034Z
DESCRIPTION:25 e 26 de setembro de 2025
LAST-MODIFIED;VALUE=DATE-TIME:20250922T190803Z
LOCATION:On-lline e Londres
URL:https://portal.ufvjm.edu.br/agendas/eventos/2025/simposio-internaciona
 l-vozes-dos-territorios-alem-da-cortina-verde-conectando-lutas-pela-sobrev
 ivencia-na-fronteira-energetica
END:VEVENT
BEGIN:VTIMEZONE
TZID:America/Sao_Paulo
X-LIC-LOCATION:America/Sao_Paulo
BEGIN:STANDARD
DTSTART;VALUE=DATE-TIME:20250215T230000
TZNAME:BRT
TZOFFSETFROM:-0200
TZOFFSETTO:-0300
END:STANDARD
END:VTIMEZONE
END:VCALENDAR
