BEGIN:VCALENDAR
VERSION:2.0
PRODID:-//Plone.org//NONSGML plone.app.event//EN
X-WR-TIMEZONE:America/Sao_Paulo
BEGIN:VEVENT
SUMMARY:Seminário LEEI Aprofundamento: Literatura\, Docência e Poética 
 da Leitura e Escrita na Educação Infantil
DTSTART;TZID=America/Sao_Paulo;VALUE=DATE-TIME:20251213T083000
DTEND;TZID=America/Sao_Paulo;VALUE=DATE-TIME:20251214T120000
DTSTAMP;VALUE=DATE-TIME:20260423T001349Z
UID:4927cb49e5c44f75abf0bb350fc90811@portal.ufvjm.edu.br
CREATED;VALUE=DATE-TIME:20251203T141408Z
DESCRIPTION:13 e 14 de dezembro
LAST-MODIFIED;VALUE=DATE-TIME:20251204T120723Z
LOCATION:Diamantina
URL:https://portal.ufvjm.edu.br/agendas/eventos/2025/seminario-leei-aprofu
 ndamento-literatura-docencia-e-poetica-da-leitura-e-escrita-na-educacao-in
 fantil
END:VEVENT
BEGIN:VTIMEZONE
TZID:America/Sao_Paulo
X-LIC-LOCATION:America/Sao_Paulo
BEGIN:DAYLIGHT
DTSTART;VALUE=DATE-TIME:20251019T010000
TZNAME:BRST
TZOFFSETFROM:-0300
TZOFFSETTO:-0200
END:DAYLIGHT
END:VTIMEZONE
END:VCALENDAR
