BEGIN:VCALENDAR
VERSION:2.0
PRODID:-//Plone.org//NONSGML plone.app.event//EN
X-WR-TIMEZONE:America/Sao_Paulo
BEGIN:VEVENT
SUMMARY:Seminário 180 anos da chegada da fotografia a Minas Gerais / 7ª 
 Semana de História
DTSTART;TZID=America/Sao_Paulo;VALUE=DATE-TIME:20250606T140000
DTEND;TZID=America/Sao_Paulo;VALUE=DATE-TIME:20250613T220000
DTSTAMP;VALUE=DATE-TIME:20260422T203932Z
UID:fee6f45dc5ff407eab12228f9d82d3e5@portal.ufvjm.edu.br
CONTACT:https://www.even3.com.br/vii-semana-de-historia/
CREATED;VALUE=DATE-TIME:20250520T121353Z
DESCRIPTION:6 a 13 de junho de 2025
LAST-MODIFIED;VALUE=DATE-TIME:20250522T123846Z
LOCATION:Diamantina
URL:https://portal.ufvjm.edu.br/agendas/eventos/2025/seminario-180-anos-da
 -chegada-da-fotografia-a-minas-gerais-vii-semana-de-historia
END:VEVENT
BEGIN:VTIMEZONE
TZID:America/Sao_Paulo
X-LIC-LOCATION:America/Sao_Paulo
BEGIN:STANDARD
DTSTART;VALUE=DATE-TIME:20250215T230000
TZNAME:BRT
TZOFFSETFROM:-0200
TZOFFSETTO:-0300
END:STANDARD
END:VTIMEZONE
END:VCALENDAR
