BEGIN:VCALENDAR
VERSION:2.0
PRODID:-//Plone.org//NONSGML plone.app.event//EN
X-WR-TIMEZONE:America/Sao_Paulo
BEGIN:VEVENT
SUMMARY:Semiárido em Redes e  2º Seminário Interinstitucional da Rede d
 e Pesquisa do Semiárido Mineiro (RPENSAM)
DTSTART;TZID=America/Sao_Paulo;VALUE=DATE-TIME:20251124T153000
DTEND;TZID=America/Sao_Paulo;VALUE=DATE-TIME:20251129T183000
DTSTAMP;VALUE=DATE-TIME:20260423T081621Z
UID:f97f4b38dd484675b53acbddf57be7f7@portal.ufvjm.edu.br
CREATED;VALUE=DATE-TIME:20251126T154537Z
DESCRIPTION:24 a 29 de novembro de 2025
LAST-MODIFIED;VALUE=DATE-TIME:20251126T163528Z
LOCATION:Diamantina
URL:https://portal.ufvjm.edu.br/agendas/eventos/2025/semiarido-em-redes-e-
 2-seminario-interinstitucional-da-rede-de-pesquisa-do-semiarido-mineiro-rp
 ensam
END:VEVENT
BEGIN:VTIMEZONE
TZID:America/Sao_Paulo
X-LIC-LOCATION:America/Sao_Paulo
BEGIN:DAYLIGHT
DTSTART;VALUE=DATE-TIME:20251019T010000
TZNAME:BRST
TZOFFSETFROM:-0300
TZOFFSETTO:-0200
END:DAYLIGHT
END:VTIMEZONE
END:VCALENDAR
