BEGIN:VCALENDAR
VERSION:2.0
PRODID:-//Plone.org//NONSGML plone.app.event//EN
X-WR-TIMEZONE:America/Sao_Paulo
BEGIN:VEVENT
SUMMARY:Semana do Servidor 2025: (RE)Pensando a saúde financeira
DTSTART;TZID=America/Sao_Paulo;VALUE=DATE-TIME:20251024T200000
DTEND;TZID=America/Sao_Paulo;VALUE=DATE-TIME:20251105T110000
DTSTAMP;VALUE=DATE-TIME:20260423T110209Z
UID:b8c4677938d94355a6d8d3745ea9fd88@portal.ufvjm.edu.br
CREATED;VALUE=DATE-TIME:20251024T122028Z
DESCRIPTION:24 de outubro a 5 de novembro de 2025
LAST-MODIFIED;VALUE=DATE-TIME:20251024T134022Z
LOCATION:Diamantina\, Janaúba\, Teófilo Otoni e Unaí
URL:https://portal.ufvjm.edu.br/agendas/eventos/2025/semana-do-servidor-20
 25-re-pensando-a-saude-financeira-1
END:VEVENT
BEGIN:VTIMEZONE
TZID:America/Sao_Paulo
X-LIC-LOCATION:America/Sao_Paulo
BEGIN:DAYLIGHT
DTSTART;VALUE=DATE-TIME:20251019T010000
TZNAME:BRST
TZOFFSETFROM:-0300
TZOFFSETTO:-0200
END:DAYLIGHT
END:VTIMEZONE
END:VCALENDAR
