BEGIN:VCALENDAR
VERSION:2.0
PRODID:-//Plone.org//NONSGML plone.app.event//EN
X-WR-TIMEZONE:America/Sao_Paulo
BEGIN:VEVENT
SUMMARY:Roda de Conversa sobre Política Cultural da UFVJM
DTSTART;TZID=America/Sao_Paulo;VALUE=DATE-TIME:20251107T100000
DTEND;TZID=America/Sao_Paulo;VALUE=DATE-TIME:20251107T120000
DTSTAMP;VALUE=DATE-TIME:20260423T152732Z
UID:cbd2e67ce7f747a6bb597c378eb1aec6@portal.ufvjm.edu.br
CREATED;VALUE=DATE-TIME:20251105T140406Z
DESCRIPTION:7 de novembro de 2025
LAST-MODIFIED;VALUE=DATE-TIME:20251105T175233Z
LOCATION:Diamantina
URL:https://portal.ufvjm.edu.br/agendas/eventos/2025/roda-de-conversa-sobr
 e-a-politica-cultural-da-ufvjm
END:VEVENT
BEGIN:VTIMEZONE
TZID:America/Sao_Paulo
X-LIC-LOCATION:America/Sao_Paulo
BEGIN:DAYLIGHT
DTSTART;VALUE=DATE-TIME:20251019T010000
TZNAME:BRST
TZOFFSETFROM:-0300
TZOFFSETTO:-0200
END:DAYLIGHT
END:VTIMEZONE
END:VCALENDAR
