BEGIN:VCALENDAR
VERSION:2.0
PRODID:-//Plone.org//NONSGML plone.app.event//EN
X-WR-TIMEZONE:America/Sao_Paulo
BEGIN:VEVENT
SUMMARY:Roda de conversa on-line e live sobre reformulação da Política 
 Cultural
DTSTART;TZID=America/Sao_Paulo;VALUE=DATE-TIME:20251119T160000
DTEND;TZID=America/Sao_Paulo;VALUE=DATE-TIME:20251202T170000
DTSTAMP;VALUE=DATE-TIME:20260423T102828Z
UID:516aa67aa33646f5a893b4b12a5c8649@portal.ufvjm.edu.br
CREATED;VALUE=DATE-TIME:20251113T150851Z
DESCRIPTION:Dias 19 de novembro e 2 dezembro de 2025
LAST-MODIFIED;VALUE=DATE-TIME:20251113T190510Z
LOCATION:on-line
URL:https://portal.ufvjm.edu.br/agendas/eventos/2025/roda-de-conversa-on-l
 ine-e-live-sobre-reformulacao-da-politica-cultural
END:VEVENT
BEGIN:VTIMEZONE
TZID:America/Sao_Paulo
X-LIC-LOCATION:America/Sao_Paulo
BEGIN:DAYLIGHT
DTSTART;VALUE=DATE-TIME:20251019T010000
TZNAME:BRST
TZOFFSETFROM:-0300
TZOFFSETTO:-0200
END:DAYLIGHT
END:VTIMEZONE
END:VCALENDAR
