BEGIN:VCALENDAR
VERSION:2.0
PRODID:-//Plone.org//NONSGML plone.app.event//EN
X-WR-TIMEZONE:America/Sao_Paulo
BEGIN:VEVENT
SUMMARY:Pint of Science Janaúba
DTSTART;TZID=America/Sao_Paulo;VALUE=DATE-TIME:20250519T190000
DTEND;TZID=America/Sao_Paulo;VALUE=DATE-TIME:20250521T210000
DTSTAMP;VALUE=DATE-TIME:20260423T173328Z
UID:4b05514ac5be4d8ba2ee46dca43bcead@portal.ufvjm.edu.br
CONTACT:https://pintofscience.com.br/
CREATED;VALUE=DATE-TIME:20250508T143934Z
DESCRIPTION:19 a 21 de maio
LAST-MODIFIED;VALUE=DATE-TIME:20250509T155900Z
LOCATION:Janaúba
URL:https://portal.ufvjm.edu.br/agendas/eventos/2025/pint-of-science-janau
 ba
END:VEVENT
BEGIN:VTIMEZONE
TZID:America/Sao_Paulo
X-LIC-LOCATION:America/Sao_Paulo
BEGIN:STANDARD
DTSTART;VALUE=DATE-TIME:20250215T230000
TZNAME:BRT
TZOFFSETFROM:-0200
TZOFFSETTO:-0300
END:STANDARD
END:VTIMEZONE
END:VCALENDAR
