BEGIN:VCALENDAR
VERSION:2.0
PRODID:-//Plone.org//NONSGML plone.app.event//EN
X-WR-TIMEZONE:America/Sao_Paulo
BEGIN:VEVENT
SUMMARY:Mostra de Profissões #VempraUFVJM
DTSTART;VALUE=DATE:20250627
DTEND;VALUE=DATE:20250628
DTSTAMP;VALUE=DATE-TIME:20260423T005031Z
UID:c7cc8a245c6246eaa8a16760890ffcd2@portal.ufvjm.edu.br
CREATED;VALUE=DATE-TIME:20250618T164836Z
DESCRIPTION:27 de junho
LAST-MODIFIED;VALUE=DATE-TIME:20250623T125636Z
LOCATION:Campus JK
URL:https://portal.ufvjm.edu.br/agendas/eventos/2025/mostra-de-profissoes-
 vempraufvjm
END:VEVENT
END:VCALENDAR
