BEGIN:VCALENDAR
VERSION:2.0
PRODID:-//Plone.org//NONSGML plone.app.event//EN
X-WR-TIMEZONE:America/Sao_Paulo
BEGIN:VEVENT
SUMMARY:Mostra de Profissões #VemPraUFVJM - Campus do Mucuri
DTSTART;VALUE=DATE:20250523
DTEND;VALUE=DATE:20250524
DTSTAMP;VALUE=DATE-TIME:20260423T183453Z
UID:e16947991fd1427c90dbb1d39dcb69e2@portal.ufvjm.edu.br
CONTACT:https://portal.ufvjm.edu.br/dicom/eventos-institucionais/mostra-de
 -profissoes-vem-pra-ufvjm/2025/
CREATED;VALUE=DATE-TIME:20250519T174711Z
DESCRIPTION:23 de maio
LAST-MODIFIED;VALUE=DATE-TIME:20250519T194438Z
LOCATION:Campus do Mucuri - Teófilo Otoni/MG
URL:https://portal.ufvjm.edu.br/agendas/eventos/2025/mostra-de-profissoes-
 vempraufvjm-campus-do-mucuri
END:VEVENT
END:VCALENDAR
