BEGIN:VCALENDAR
VERSION:2.0
PRODID:-//Plone.org//NONSGML plone.app.event//EN
X-WR-TIMEZONE:America/Sao_Paulo
BEGIN:VEVENT
SUMMARY:Março Cultural - Trama com a gente!
DTSTART;TZID=America/Sao_Paulo;VALUE=DATE-TIME:20250314T180000
DTEND;TZID=America/Sao_Paulo;VALUE=DATE-TIME:20250315T210000
DTSTAMP;VALUE=DATE-TIME:20260423T165214Z
UID:5a0fb96c41c74785821163c1efe4cb8b@portal.ufvjm.edu.br
CONTACT:https://www.instagram.com/proexc_ufvjm/
CREATED;VALUE=DATE-TIME:20250306T204439Z
DESCRIPTION:14 e 15 de março
LAST-MODIFIED;VALUE=DATE-TIME:20250306T212813Z
LOCATION:Teatro Santa Izabel - Diamantina
URL:https://portal.ufvjm.edu.br/agendas/eventos/2025/marco-cultural-trama-
 com-a-gente
END:VEVENT
BEGIN:VTIMEZONE
TZID:America/Sao_Paulo
X-LIC-LOCATION:America/Sao_Paulo
BEGIN:STANDARD
DTSTART;VALUE=DATE-TIME:20250215T230000
TZNAME:BRT
TZOFFSETFROM:-0200
TZOFFSETTO:-0300
END:STANDARD
END:VTIMEZONE
END:VCALENDAR
