BEGIN:VCALENDAR
VERSION:2.0
PRODID:-//Plone.org//NONSGML plone.app.event//EN
X-WR-TIMEZONE:America/Sao_Paulo
BEGIN:VEVENT
SUMMARY:Live da Gestão: entregas e desafios das pró-reitorias finalísti
 cas
DTSTART;TZID=America/Sao_Paulo;VALUE=DATE-TIME:20250616T090000
DTSTAMP;VALUE=DATE-TIME:20260423T000226Z
UID:d4baac8d7ad64b0da214dfb109422f36@portal.ufvjm.edu.br
CREATED;VALUE=DATE-TIME:20250612T184501Z
DESCRIPTION:16 de junho
LAST-MODIFIED;VALUE=DATE-TIME:20250612T184609Z
URL:https://portal.ufvjm.edu.br/agendas/eventos/2025/live-da-gestao-entreg
 as-e-desafios-das-pro-reitorias-finalisticas
END:VEVENT
BEGIN:VTIMEZONE
TZID:America/Sao_Paulo
X-LIC-LOCATION:America/Sao_Paulo
BEGIN:STANDARD
DTSTART;VALUE=DATE-TIME:20250215T230000
TZNAME:BRT
TZOFFSETFROM:-0200
TZOFFSETTO:-0300
END:STANDARD
END:VTIMEZONE
END:VCALENDAR
