BEGIN:VCALENDAR
VERSION:2.0
PRODID:-//Plone.org//NONSGML plone.app.event//EN
X-WR-TIMEZONE:America/Sao_Paulo
BEGIN:VEVENT
SUMMARY:Live da Gestão: 2 anos da Gestão 2023-2027
DTSTART;TZID=America/Sao_Paulo;VALUE=DATE-TIME:20250901T150000
DTSTAMP;VALUE=DATE-TIME:20260423T165417Z
UID:6ed9c572405f4f32bdd04214ce3146ec@portal.ufvjm.edu.br
CONTACT:https://www.instagram.com/reitoriaufvjm/?hl=pt-br
CREATED;VALUE=DATE-TIME:20250829T174424Z
DESCRIPTION:1 de setembro
LAST-MODIFIED;VALUE=DATE-TIME:20250829T220136Z
LOCATION:on-line
URL:https://portal.ufvjm.edu.br/agendas/eventos/2025/live-da-gestao-2-anos
 -da-gestao-2023-2027
END:VEVENT
BEGIN:VTIMEZONE
TZID:America/Sao_Paulo
X-LIC-LOCATION:America/Sao_Paulo
BEGIN:STANDARD
DTSTART;VALUE=DATE-TIME:20250215T230000
TZNAME:BRT
TZOFFSETFROM:-0200
TZOFFSETTO:-0300
END:STANDARD
END:VTIMEZONE
END:VCALENDAR
