BEGIN:VCALENDAR
VERSION:2.0
PRODID:-//Plone.org//NONSGML plone.app.event//EN
X-WR-TIMEZONE:America/Sao_Paulo
BEGIN:VEVENT
SUMMARY:4ª Semana de Integração da FIH
DTSTART;TZID=America/Sao_Paulo;VALUE=DATE-TIME:20250407T190000
DTEND;TZID=America/Sao_Paulo;VALUE=DATE-TIME:20250409T190000
DTSTAMP;VALUE=DATE-TIME:20260422T171804Z
UID:f32e89864a284b50ac749f7c5b14caf4@portal.ufvjm.edu.br
CREATED;VALUE=DATE-TIME:20250403T142610Z
DESCRIPTION:7 a 9 de abril
LAST-MODIFIED;VALUE=DATE-TIME:20250408T151342Z
LOCATION:Diamantina/MG
URL:https://portal.ufvjm.edu.br/agendas/eventos/2025/iv-semana-de-integrac
 ao-da-fih
END:VEVENT
BEGIN:VTIMEZONE
TZID:America/Sao_Paulo
X-LIC-LOCATION:America/Sao_Paulo
BEGIN:STANDARD
DTSTART;VALUE=DATE-TIME:20250215T230000
TZNAME:BRT
TZOFFSETFROM:-0200
TZOFFSETTO:-0300
END:STANDARD
END:VTIMEZONE
END:VCALENDAR
