BEGIN:VCALENDAR
VERSION:2.0
PRODID:-//Plone.org//NONSGML plone.app.event//EN
X-WR-TIMEZONE:America/Sao_Paulo
BEGIN:VEVENT
SUMMARY:4ª Semana de Ciência e Tecnologia (SCT)
DTSTART;TZID=America/Sao_Paulo;VALUE=DATE-TIME:20251104T150000
DTEND;TZID=America/Sao_Paulo;VALUE=DATE-TIME:20251108T120000
DTSTAMP;VALUE=DATE-TIME:20260423T102655Z
UID:7b4dd8f4bd614f19affc9cc8938db202@portal.ufvjm.edu.br
CREATED;VALUE=DATE-TIME:20250804T150833Z
DESCRIPTION:4 a 8 de novembro de 2025
LAST-MODIFIED;VALUE=DATE-TIME:20250818T133933Z
LOCATION:Diamantina
URL:https://portal.ufvjm.edu.br/agendas/eventos/2025/iv-semana-de-ciencia-
 e-tecnologia-sct
END:VEVENT
BEGIN:VTIMEZONE
TZID:America/Sao_Paulo
X-LIC-LOCATION:America/Sao_Paulo
BEGIN:DAYLIGHT
DTSTART;VALUE=DATE-TIME:20251019T010000
TZNAME:BRST
TZOFFSETFROM:-0300
TZOFFSETTO:-0200
END:DAYLIGHT
END:VTIMEZONE
END:VCALENDAR
