BEGIN:VCALENDAR
VERSION:2.0
PRODID:-//Plone.org//NONSGML plone.app.event//EN
X-WR-TIMEZONE:America/Sao_Paulo
BEGIN:VEVENT
SUMMARY:4º Raízes Africanas na Matemática e na Vida
DTSTART;TZID=America/Sao_Paulo;VALUE=DATE-TIME:20251118T190000
DTEND;TZID=America/Sao_Paulo;VALUE=DATE-TIME:20251118T220000
DTSTAMP;VALUE=DATE-TIME:20260423T093844Z
UID:a249d5d5af164b99b101278120e6a75a@portal.ufvjm.edu.br
CREATED;VALUE=DATE-TIME:20251114T194753Z
DESCRIPTION:18 de novembro de 2025
LAST-MODIFIED;VALUE=DATE-TIME:20251114T203119Z
LOCATION:Teófilo Otoni
URL:https://portal.ufvjm.edu.br/agendas/eventos/2025/iv-raizes-africanas-n
 a-matematica-e-na-vida
END:VEVENT
BEGIN:VTIMEZONE
TZID:America/Sao_Paulo
X-LIC-LOCATION:America/Sao_Paulo
BEGIN:DAYLIGHT
DTSTART;VALUE=DATE-TIME:20251019T010000
TZNAME:BRST
TZOFFSETFROM:-0300
TZOFFSETTO:-0200
END:DAYLIGHT
END:VTIMEZONE
END:VCALENDAR
