BEGIN:VCALENDAR
VERSION:2.0
PRODID:-//Plone.org//NONSGML plone.app.event//EN
X-WR-TIMEZONE:America/Sao_Paulo
BEGIN:VEVENT
SUMMARY:InovaUFVJM - Transformando ideias em inovação e pesquisa em prop
 riedade intelectual
DTSTART;TZID=America/Sao_Paulo;VALUE=DATE-TIME:20251128T133000
DTEND;TZID=America/Sao_Paulo;VALUE=DATE-TIME:20251128T173000
DTSTAMP;VALUE=DATE-TIME:20260423T081528Z
UID:22a682bbf1b14502b821b1c66af26048@portal.ufvjm.edu.br
CREATED;VALUE=DATE-TIME:20251105T121356Z
DESCRIPTION:28 de novembro de 2025
LAST-MODIFIED;VALUE=DATE-TIME:20251106T133432Z
LOCATION:on-line
URL:https://portal.ufvjm.edu.br/agendas/eventos/2025/inovaufvjm-transforma
 ndo-ideias-em-inovacao-e-pesquisa-em-propriedade-intelectual
END:VEVENT
BEGIN:VTIMEZONE
TZID:America/Sao_Paulo
X-LIC-LOCATION:America/Sao_Paulo
BEGIN:DAYLIGHT
DTSTART;VALUE=DATE-TIME:20251019T010000
TZNAME:BRST
TZOFFSETFROM:-0300
TZOFFSETTO:-0200
END:DAYLIGHT
END:VTIMEZONE
END:VCALENDAR
