BEGIN:VCALENDAR
VERSION:2.0
PRODID:-//Plone.org//NONSGML plone.app.event//EN
X-WR-TIMEZONE:America/Sao_Paulo
BEGIN:VEVENT
SUMMARY:Inauguração do planetário fixo no Campus do Mucuri
DTSTART;TZID=America/Sao_Paulo;VALUE=DATE-TIME:20251125T080000
DTEND;TZID=America/Sao_Paulo;VALUE=DATE-TIME:20251125T120000
DTSTAMP;VALUE=DATE-TIME:20260423T095511Z
UID:57b22da431254516b8a5431521d00894@portal.ufvjm.edu.br
CREATED;VALUE=DATE-TIME:20251118T132040Z
DESCRIPTION:25 de novembro de 2025
LAST-MODIFIED;VALUE=DATE-TIME:20251121T130354Z
LOCATION:Teófilo Otoni
URL:https://portal.ufvjm.edu.br/agendas/eventos/2025/inauguracao-planetari
 o-fixo-no-campus-do-mucuri
END:VEVENT
BEGIN:VTIMEZONE
TZID:America/Sao_Paulo
X-LIC-LOCATION:America/Sao_Paulo
BEGIN:DAYLIGHT
DTSTART;VALUE=DATE-TIME:20251019T010000
TZNAME:BRST
TZOFFSETFROM:-0300
TZOFFSETTO:-0200
END:DAYLIGHT
END:VTIMEZONE
END:VCALENDAR
