BEGIN:VCALENDAR
VERSION:2.0
PRODID:-//Plone.org//NONSGML plone.app.event//EN
X-WR-TIMEZONE:America/Sao_Paulo
BEGIN:VEVENT
SUMMARY:Inauguração do Centro de Informações Popular e Profissional so
 bre Medicamentos do Vale do Jequitinhonha
DTSTART;TZID=America/Sao_Paulo;VALUE=DATE-TIME:20250121T080000
DTEND;TZID=America/Sao_Paulo;VALUE=DATE-TIME:20250121T170000
DTSTAMP;VALUE=DATE-TIME:20260423T173720Z
UID:5a3e0e8d343948279f76405537fa72a7@portal.ufvjm.edu.br
CONTACT:https://www.instagram.com/farmaciaescolajk/
CREATED;VALUE=DATE-TIME:20250116T181016Z
DESCRIPTION:21 de janeiro
LAST-MODIFIED;VALUE=DATE-TIME:20250116T183234Z
LOCATION:Campus JK
URL:https://portal.ufvjm.edu.br/agendas/eventos/2025/inauguracao-do-centro
 -de-informacoes-popular-e-profissional-sobre-medicamentos-do-vale-do-jequi
 tinhonha
END:VEVENT
BEGIN:VTIMEZONE
TZID:America/Sao_Paulo
X-LIC-LOCATION:America/Sao_Paulo
BEGIN:DAYLIGHT
DTSTART;VALUE=DATE-TIME:20241020T010000
TZNAME:BRST
TZOFFSETFROM:-0300
TZOFFSETTO:-0200
END:DAYLIGHT
END:VTIMEZONE
END:VCALENDAR
