BEGIN:VCALENDAR
VERSION:2.0
PRODID:-//Plone.org//NONSGML plone.app.event//EN
X-WR-TIMEZONE:America/Sao_Paulo
BEGIN:VEVENT
SUMMARY:3º Encontro da Rede Mineira de Imunobiológicos Aplicados a Vacin
 as\, Biofármacos e Diagnóstico para a Leishmaniose Visceral
DTSTART;TZID=America/Sao_Paulo;VALUE=DATE-TIME:20250515T150000
DTEND;TZID=America/Sao_Paulo;VALUE=DATE-TIME:20250517T170000
DTSTAMP;VALUE=DATE-TIME:20260423T151414Z
UID:800173611f184b6ca2edde178fca444a@portal.ufvjm.edu.br
CONTACT:https://www.instagram.com/imunobioleish/
CREATED;VALUE=DATE-TIME:20250506T121212Z
DESCRIPTION:15 a 17 de maio de 2025
LAST-MODIFIED;VALUE=DATE-TIME:20250508T132200Z
LOCATION:Diamantina
URL:https://portal.ufvjm.edu.br/agendas/eventos/2025/iii-encontro-da-rede-
 mineira-de-imunobiologicos-aplicados-a-vacinas-biofarmacos-e-diagnostico-i
 munobioleish-minas
END:VEVENT
BEGIN:VTIMEZONE
TZID:America/Sao_Paulo
X-LIC-LOCATION:America/Sao_Paulo
BEGIN:STANDARD
DTSTART;VALUE=DATE-TIME:20250215T230000
TZNAME:BRT
TZOFFSETFROM:-0200
TZOFFSETTO:-0300
END:STANDARD
END:VTIMEZONE
END:VCALENDAR
