BEGIN:VCALENDAR
VERSION:2.0
PRODID:-//Plone.org//NONSGML plone.app.event//EN
X-WR-TIMEZONE:America/Sao_Paulo
BEGIN:VEVENT
SUMMARY:2º Ciclo de Debate do Gedeb: reflexões sobre a ditadura civil-mi
 litar e a “construção interrompida”
DTSTART;TZID=America/Sao_Paulo;VALUE=DATE-TIME:20251105T140000
DTEND;TZID=America/Sao_Paulo;VALUE=DATE-TIME:20251106T230000
DTSTAMP;VALUE=DATE-TIME:20260423T005626Z
UID:fd0c189b4927476a8fc60571a9c281f3@portal.ufvjm.edu.br
CREATED;VALUE=DATE-TIME:20251014T144809Z
DESCRIPTION:5 e 6 de novembro de 2025
LAST-MODIFIED;VALUE=DATE-TIME:20251021T133023Z
LOCATION:Teófilo Otoni
URL:https://portal.ufvjm.edu.br/agendas/eventos/2025/ii-ciclo-de-debate-do
 -gedeb-reflexoes-sobre-a-ditadura-civil-militar-e-a-201cconstrucao-interro
 mpida201d
END:VEVENT
BEGIN:VTIMEZONE
TZID:America/Sao_Paulo
X-LIC-LOCATION:America/Sao_Paulo
BEGIN:DAYLIGHT
DTSTART;VALUE=DATE-TIME:20251019T010000
TZNAME:BRST
TZOFFSETFROM:-0300
TZOFFSETTO:-0200
END:DAYLIGHT
END:VTIMEZONE
END:VCALENDAR
