BEGIN:VCALENDAR
VERSION:2.0
PRODID:-//Plone.org//NONSGML plone.app.event//EN
X-WR-TIMEZONE:America/Sao_Paulo
BEGIN:VEVENT
SUMMARY:1º Simpósio Internacional do Lale: Educação\, ensino de língu
 as e tecnologias digitais
DTSTART;TZID=America/Sao_Paulo;VALUE=DATE-TIME:20251114T090000
DTEND;TZID=America/Sao_Paulo;VALUE=DATE-TIME:20251114T210000
DTSTAMP;VALUE=DATE-TIME:20260423T121433Z
UID:715a474dfe49460cb750d66a17ea168d@portal.ufvjm.edu.br
CREATED;VALUE=DATE-TIME:20251107T150908Z
DESCRIPTION:14 de novembro de 2025
LAST-MODIFIED;VALUE=DATE-TIME:20251107T160146Z
LOCATION:on-line
URL:https://portal.ufvjm.edu.br/agendas/eventos/2025/i-simposio-internacio
 nal-do-lale-educacao-ensino-de-linguas-e-tecnologias-digitais
END:VEVENT
BEGIN:VTIMEZONE
TZID:America/Sao_Paulo
X-LIC-LOCATION:America/Sao_Paulo
BEGIN:DAYLIGHT
DTSTART;VALUE=DATE-TIME:20251019T010000
TZNAME:BRST
TZOFFSETFROM:-0300
TZOFFSETTO:-0200
END:DAYLIGHT
END:VTIMEZONE
END:VCALENDAR
