BEGIN:VCALENDAR
VERSION:2.0
PRODID:-//Plone.org//NONSGML plone.app.event//EN
X-WR-TIMEZONE:America/Sao_Paulo
BEGIN:VEVENT
SUMMARY:1º Simpósio de Ciências Farmacêuticas de Diamantina
DTSTART;TZID=America/Sao_Paulo;VALUE=DATE-TIME:20250625T140000
DTEND;TZID=America/Sao_Paulo;VALUE=DATE-TIME:20250627T180000
DTSTAMP;VALUE=DATE-TIME:20260423T020415Z
UID:65d9454df19e4f6dac4029044896f9d1@portal.ufvjm.edu.br
CONTACT:https://www.even3.com.br/i-simposio-de-ciencias-farmaceuticas-e-x-
 jofar-528774/
CREATED;VALUE=DATE-TIME:20250516T171006Z
DESCRIPTION:25 a 27 de junho de 2025
LAST-MODIFIED;VALUE=DATE-TIME:20250519T192445Z
LOCATION:Diamantina
URL:https://portal.ufvjm.edu.br/agendas/eventos/2025/i-simposio-de-ciencia
 s-farmaceuticas-de-diamantina
END:VEVENT
BEGIN:VTIMEZONE
TZID:America/Sao_Paulo
X-LIC-LOCATION:America/Sao_Paulo
BEGIN:STANDARD
DTSTART;VALUE=DATE-TIME:20250215T230000
TZNAME:BRT
TZOFFSETFROM:-0200
TZOFFSETTO:-0300
END:STANDARD
END:VTIMEZONE
END:VCALENDAR
