BEGIN:VCALENDAR
VERSION:2.0
PRODID:-//Plone.org//NONSGML plone.app.event//EN
X-WR-TIMEZONE:America/Sao_Paulo
BEGIN:VEVENT
SUMMARY:1º Encontro de Gestores Municipais do Alto Jequitinhonha: Diálog
 os e Compromissos com as Infâncias e a Educação Infantil de Qualidade e
  V Encontro Ampliado do Fórum de Educação Infantil do Vale do Jequitinh
 onha
DTSTART;TZID=America/Sao_Paulo;VALUE=DATE-TIME:20250829T090000
DTEND;TZID=America/Sao_Paulo;VALUE=DATE-TIME:20250829T180000
DTSTAMP;VALUE=DATE-TIME:20260424T130147Z
UID:b1758e15032b4c15961db14bf7be4435@portal.ufvjm.edu.br
CREATED;VALUE=DATE-TIME:20250721T150146Z
DESCRIPTION:29 de agosto de 2025
LAST-MODIFIED;VALUE=DATE-TIME:20250801T132723Z
LOCATION:Diamantina/MG
URL:https://portal.ufvjm.edu.br/agendas/eventos/2025/i-encontro-com-gestor
 es-municipais-do-alto-do-vale-jequitinhonha-dialogos-e-compromissos-com-as
 -infancias-e-a-educacao-infantil-de-qualidade-e-v-encontro-ampliado-do-for
 um-de-educacao-infantil-do-vale-jequitinhonha
END:VEVENT
BEGIN:VTIMEZONE
TZID:America/Sao_Paulo
X-LIC-LOCATION:America/Sao_Paulo
BEGIN:STANDARD
DTSTART;VALUE=DATE-TIME:20250215T230000
TZNAME:BRT
TZOFFSETFROM:-0200
TZOFFSETTO:-0300
END:STANDARD
END:VTIMEZONE
END:VCALENDAR
