BEGIN:VCALENDAR
VERSION:2.0
PRODID:-//Plone.org//NONSGML plone.app.event//EN
X-WR-TIMEZONE:America/Sao_Paulo
BEGIN:VEVENT
SUMMARY:1º Colóquio das Minas às Gerais: tramas artísticas e culturais
DTSTART;TZID=America/Sao_Paulo;VALUE=DATE-TIME:20250526T140000
DTEND;TZID=America/Sao_Paulo;VALUE=DATE-TIME:20250528T180000
DTSTAMP;VALUE=DATE-TIME:20260423T041509Z
UID:14178449128a41d7a4c377047fed77b5@portal.ufvjm.edu.br
CONTACT:https://www.even3.com.br/coloquio-das-minas-as-gerais-tramas-artis
 ticas-e-culturais-549644/
CREATED;VALUE=DATE-TIME:20250424T150147Z
DESCRIPTION:26 a 28 de maio de 2025
LAST-MODIFIED;VALUE=DATE-TIME:20250527T121746Z
URL:https://portal.ufvjm.edu.br/agendas/eventos/2025/i-coloquio-das-minas-
 as-gerais-tramas-artisticas-e-culturais
END:VEVENT
BEGIN:VTIMEZONE
TZID:America/Sao_Paulo
X-LIC-LOCATION:America/Sao_Paulo
BEGIN:STANDARD
DTSTART;VALUE=DATE-TIME:20250215T230000
TZNAME:BRT
TZOFFSETFROM:-0200
TZOFFSETTO:-0300
END:STANDARD
END:VTIMEZONE
END:VCALENDAR
