BEGIN:VCALENDAR
VERSION:2.0
PRODID:-//Plone.org//NONSGML plone.app.event//EN
X-WR-TIMEZONE:America/Sao_Paulo
BEGIN:VEVENT
SUMMARY:Festival de Cinema em Janaúba
DTSTART;TZID=America/Sao_Paulo;VALUE=DATE-TIME:20250820T140000
DTSTAMP;VALUE=DATE-TIME:20260423T102600Z
UID:6e8a545cd49c48c9bca7fa171e07d71d@portal.ufvjm.edu.br
CREATED;VALUE=DATE-TIME:20250815T172308Z
DESCRIPTION:20 de agosto
LAST-MODIFIED;VALUE=DATE-TIME:20250818T205531Z
LOCATION:Janaúba
URL:https://portal.ufvjm.edu.br/agendas/eventos/2025/festival-de-cinema
END:VEVENT
BEGIN:VTIMEZONE
TZID:America/Sao_Paulo
X-LIC-LOCATION:America/Sao_Paulo
BEGIN:STANDARD
DTSTART;VALUE=DATE-TIME:20250215T230000
TZNAME:BRT
TZOFFSETFROM:-0200
TZOFFSETTO:-0300
END:STANDARD
END:VTIMEZONE
END:VCALENDAR
