BEGIN:VCALENDAR
VERSION:2.0
PRODID:-//Plone.org//NONSGML plone.app.event//EN
X-WR-TIMEZONE:America/Sao_Paulo
BEGIN:VEVENT
SUMMARY:Encontros Pedagógicos 2025
DTSTART;TZID=America/Sao_Paulo;VALUE=DATE-TIME:20251201T190000
DTEND;TZID=America/Sao_Paulo;VALUE=DATE-TIME:20251205T220000
DTSTAMP;VALUE=DATE-TIME:20260423T122947Z
UID:c6edadd4ad884b50ac647302af8b6a27@portal.ufvjm.edu.br
CREATED;VALUE=DATE-TIME:20251128T150312Z
DESCRIPTION:1 a 5 de dezembro de 2025
LAST-MODIFIED;VALUE=DATE-TIME:20251128T180149Z
LOCATION:Diamantina
URL:https://portal.ufvjm.edu.br/agendas/eventos/2025/encontros-pedagogicos
 -2025
END:VEVENT
BEGIN:VTIMEZONE
TZID:America/Sao_Paulo
X-LIC-LOCATION:America/Sao_Paulo
BEGIN:DAYLIGHT
DTSTART;VALUE=DATE-TIME:20251019T010000
TZNAME:BRST
TZOFFSETFROM:-0300
TZOFFSETTO:-0200
END:DAYLIGHT
END:VTIMEZONE
END:VCALENDAR
