BEGIN:VCALENDAR
VERSION:2.0
PRODID:-//Plone.org//NONSGML plone.app.event//EN
X-WR-TIMEZONE:America/Sao_Paulo
BEGIN:VEVENT
SUMMARY:EcoWellness nas Alturas
DTSTART;TZID=America/Sao_Paulo;VALUE=DATE-TIME:20250823T080000
DTEND;TZID=America/Sao_Paulo;VALUE=DATE-TIME:20250823T090000
DTSTAMP;VALUE=DATE-TIME:20260423T080102Z
UID:2b859f68b3ef430b833b93d9a556a44b@portal.ufvjm.edu.br
CREATED;VALUE=DATE-TIME:20250617T140231Z
DESCRIPTION:23 de agosto de 2025
LAST-MODIFIED;VALUE=DATE-TIME:20250630T141754Z
LOCATION:Diamantina
URL:https://portal.ufvjm.edu.br/agendas/eventos/2025/ecowellness-nas-altur
 as
END:VEVENT
BEGIN:VTIMEZONE
TZID:America/Sao_Paulo
X-LIC-LOCATION:America/Sao_Paulo
BEGIN:STANDARD
DTSTART;VALUE=DATE-TIME:20250215T230000
TZNAME:BRT
TZOFFSETFROM:-0200
TZOFFSETTO:-0300
END:STANDARD
END:VTIMEZONE
END:VCALENDAR
