BEGIN:VCALENDAR
VERSION:2.0
PRODID:-//Plone.org//NONSGML plone.app.event//EN
X-WR-TIMEZONE:America/Sao_Paulo
BEGIN:VEVENT
SUMMARY:Festival Nacional de Teatro de Teófilo Otoni
DTSTART;TZID=America/Sao_Paulo;VALUE=DATE-TIME:20250619T140000
DTEND;TZID=America/Sao_Paulo;VALUE=DATE-TIME:20250622T150000
DTSTAMP;VALUE=DATE-TIME:20260423T001254Z
UID:88bf9964ca1f4597835c1259a236beff@portal.ufvjm.edu.br
CREATED;VALUE=DATE-TIME:20250530T201719Z
DESCRIPTION:19 a 22 de junho
LAST-MODIFIED;VALUE=DATE-TIME:20250609T131549Z
LOCATION:Janaúba\, Unaí e Teófilo Otoni
URL:https://portal.ufvjm.edu.br/agendas/eventos/2025/comemoracoes-dos-20-a
 nos-da-ufvjm-tera-presenca-da-14-edicao-do-festto
END:VEVENT
BEGIN:VTIMEZONE
TZID:America/Sao_Paulo
X-LIC-LOCATION:America/Sao_Paulo
BEGIN:STANDARD
DTSTART;VALUE=DATE-TIME:20250215T230000
TZNAME:BRT
TZOFFSETFROM:-0200
TZOFFSETTO:-0300
END:STANDARD
END:VTIMEZONE
END:VCALENDAR
