BEGIN:VCALENDAR
VERSION:2.0
PRODID:-//Plone.org//NONSGML plone.app.event//EN
X-WR-TIMEZONE:America/Sao_Paulo
BEGIN:VEVENT
SUMMARY:Cidade Ativa
DTSTART;TZID=America/Sao_Paulo;VALUE=DATE-TIME:20250608T080000
DTSTAMP;VALUE=DATE-TIME:20260423T020104Z
UID:ba98b4e57fc04fcf948ded7f7b5b1635@portal.ufvjm.edu.br
CONTACT:https://www.instagram.com/cidadeativaufvjm/
CREATED;VALUE=DATE-TIME:20250528T141056Z
DESCRIPTION:8 de junho
LAST-MODIFIED;VALUE=DATE-TIME:20250528T153723Z
LOCATION:Diamantina
URL:https://portal.ufvjm.edu.br/agendas/eventos/2025/cidade-ativa
END:VEVENT
BEGIN:VTIMEZONE
TZID:America/Sao_Paulo
X-LIC-LOCATION:America/Sao_Paulo
BEGIN:STANDARD
DTSTART;VALUE=DATE-TIME:20250215T230000
TZNAME:BRT
TZOFFSETFROM:-0200
TZOFFSETTO:-0300
END:STANDARD
END:VTIMEZONE
END:VCALENDAR
