BEGIN:VCALENDAR
VERSION:2.0
PRODID:-//Plone.org//NONSGML plone.app.event//EN
X-WR-TIMEZONE:America/Sao_Paulo
BEGIN:VEVENT
SUMMARY:Audiência sobre Implementação do Campus em Conceição do Mato 
 Dentro
DTSTART;TZID=America/Sao_Paulo;VALUE=DATE-TIME:20251119T090000
DTSTAMP;VALUE=DATE-TIME:20260423T102708Z
UID:e4341f2e9e5f40cabf0d74820aa4dec2@portal.ufvjm.edu.br
CREATED;VALUE=DATE-TIME:20251117T173903Z
DESCRIPTION:19 de novembro
LAST-MODIFIED;VALUE=DATE-TIME:20251117T174623Z
LOCATION:Diamantina/MG
URL:https://portal.ufvjm.edu.br/agendas/eventos/2025/audiencia-sobre-imple
 mentacao-do-campus-em-conceicao-do-mato-dentro
END:VEVENT
BEGIN:VTIMEZONE
TZID:America/Sao_Paulo
X-LIC-LOCATION:America/Sao_Paulo
BEGIN:DAYLIGHT
DTSTART;VALUE=DATE-TIME:20251019T010000
TZNAME:BRST
TZOFFSETFROM:-0300
TZOFFSETTO:-0200
END:DAYLIGHT
END:VTIMEZONE
END:VCALENDAR
