BEGIN:VCALENDAR
VERSION:2.0
PRODID:-//Plone.org//NONSGML plone.app.event//EN
X-WR-TIMEZONE:America/Sao_Paulo
BEGIN:VEVENT
SUMMARY:Arraial da Federal 2025
DTSTART;TZID=America/Sao_Paulo;VALUE=DATE-TIME:20250612T190000
DTSTAMP;VALUE=DATE-TIME:20260423T005109Z
UID:de1e258c9d6c4e3e98950616d4852a36@portal.ufvjm.edu.br
CREATED;VALUE=DATE-TIME:20250530T181922Z
DESCRIPTION:12 de junho
LAST-MODIFIED;VALUE=DATE-TIME:20250530T191947Z
LOCATION:Diamantina/MG
URL:https://portal.ufvjm.edu.br/agendas/eventos/2025/arraial-da-federal-20
 25
END:VEVENT
BEGIN:VTIMEZONE
TZID:America/Sao_Paulo
X-LIC-LOCATION:America/Sao_Paulo
BEGIN:STANDARD
DTSTART;VALUE=DATE-TIME:20250215T230000
TZNAME:BRT
TZOFFSETFROM:-0200
TZOFFSETTO:-0300
END:STANDARD
END:VTIMEZONE
END:VCALENDAR
