BEGIN:VCALENDAR
VERSION:2.0
PRODID:-//Plone.org//NONSGML plone.app.event//EN
X-WR-TIMEZONE:America/Sao_Paulo
BEGIN:VEVENT
SUMMARY:Apresentação do novo curso de Bacharelado em Química Tecnológi
 ca da UFVJM
DTSTART;TZID=America/Sao_Paulo;VALUE=DATE-TIME:20251127T133000
DTEND;TZID=America/Sao_Paulo;VALUE=DATE-TIME:20251127T170000
DTSTAMP;VALUE=DATE-TIME:20260422T163243Z
UID:72722c4d04f74a76a9f552acd0e44edc@portal.ufvjm.edu.br
CREATED;VALUE=DATE-TIME:20251125T142512Z
DESCRIPTION:27 de novembro de 2025
LAST-MODIFIED;VALUE=DATE-TIME:20251125T190322Z
LOCATION:Diamantina
URL:https://portal.ufvjm.edu.br/agendas/eventos/2025/apresentacao-do-novo-
 curso-de-bacharelado-em-quimica-tecnologica-da-ufvjm
END:VEVENT
BEGIN:VTIMEZONE
TZID:America/Sao_Paulo
X-LIC-LOCATION:America/Sao_Paulo
BEGIN:DAYLIGHT
DTSTART;VALUE=DATE-TIME:20251019T010000
TZNAME:BRST
TZOFFSETFROM:-0300
TZOFFSETTO:-0200
END:DAYLIGHT
END:VTIMEZONE
END:VCALENDAR
