BEGIN:VCALENDAR
VERSION:2.0
PRODID:-//Plone.org//NONSGML plone.app.event//EN
X-WR-TIMEZONE:America/Sao_Paulo
BEGIN:VEVENT
SUMMARY:Além do Laboratório: o que motiva as mulheres na ciência?
DTSTART;TZID=America/Sao_Paulo;VALUE=DATE-TIME:20250225T100000
DTEND;TZID=America/Sao_Paulo;VALUE=DATE-TIME:20250225T110000
DTSTAMP;VALUE=DATE-TIME:20260424T045519Z
UID:2060ca10991b413b8033b367a88eb1ce@portal.ufvjm.edu.br
CONTACT:https://www.youtube.com/watch?v=Tfv-Z_7hKzg
CREATED;VALUE=DATE-TIME:20250221T193302Z
DESCRIPTION:25 de fevereiro
LAST-MODIFIED;VALUE=DATE-TIME:20250221T202054Z
LOCATION:Evento on-line
URL:https://portal.ufvjm.edu.br/agendas/eventos/2025/alem-do-laboratorio-o
 -que-motiva-as-mulheres-na-ciencia
END:VEVENT
BEGIN:VTIMEZONE
TZID:America/Sao_Paulo
X-LIC-LOCATION:America/Sao_Paulo
BEGIN:STANDARD
DTSTART;VALUE=DATE-TIME:20250215T230000
TZNAME:BRT
TZOFFSETFROM:-0200
TZOFFSETTO:-0300
END:STANDARD
END:VTIMEZONE
END:VCALENDAR
