BEGIN:VCALENDAR
VERSION:2.0
PRODID:-//Plone.org//NONSGML plone.app.event//EN
X-WR-TIMEZONE:America/Sao_Paulo
BEGIN:VEVENT
SUMMARY:Olimpíadas Universitárias da UFVJM
DTSTART;VALUE=DATE:20250927
DTEND;VALUE=DATE:20251028
DTSTAMP;VALUE=DATE-TIME:20260423T145730Z
UID:a8078836c80c4a8b920f540b97c7b7bc@portal.ufvjm.edu.br
CATEGORIES:Teófilo Otoni
CATEGORIES:Diamantina
CATEGORIES:Janaúba
CATEGORIES:Unaí
CONTACT:https://drive.google.com/file/d/1qOrAyuEoH3EQGrnNdHGItx_Ez2LI_Y4y/
 view
CREATED;VALUE=DATE-TIME:20250915T200833Z
DESCRIPTION:27 de setembro
LAST-MODIFIED;VALUE=DATE-TIME:20250915T205907Z
LOCATION:Diamantina
URL:https://portal.ufvjm.edu.br/agendas/eventos/2025/aberto-periodo-de-ins
 cricao-para-as-olimpiadas-universitarias-da-ufvjm
END:VEVENT
END:VCALENDAR
