BEGIN:VCALENDAR
VERSION:2.0
PRODID:-//Plone.org//NONSGML plone.app.event//EN
X-WR-TIMEZONE:America/Sao_Paulo
BEGIN:VEVENT
SUMMARY:3ª Feira de Minerais\, Gemas e Rochas Ornamentais de Diamantina
DTSTART;TZID=America/Sao_Paulo;VALUE=DATE-TIME:20251016T100000
DTEND;TZID=America/Sao_Paulo;VALUE=DATE-TIME:20251018T180000
DTSTAMP;VALUE=DATE-TIME:20260423T105846Z
UID:79146dff155f41f5a2bc67ec8d69519d@portal.ufvjm.edu.br
CREATED;VALUE=DATE-TIME:20251009T145432Z
DESCRIPTION:16 a 18 de outubro de 2025
LAST-MODIFIED;VALUE=DATE-TIME:20251010T125315Z
LOCATION:Diamantina
URL:https://portal.ufvjm.edu.br/agendas/eventos/2025/3-feira-de-minerais-g
 emas-e-rochas-ornamentais-de-diamantina
END:VEVENT
BEGIN:VTIMEZONE
TZID:America/Sao_Paulo
X-LIC-LOCATION:America/Sao_Paulo
BEGIN:STANDARD
DTSTART;VALUE=DATE-TIME:20250215T230000
TZNAME:BRT
TZOFFSETFROM:-0200
TZOFFSETTO:-0300
END:STANDARD
END:VTIMEZONE
END:VCALENDAR
