BEGIN:VCALENDAR
VERSION:2.0
PRODID:-//Plone.org//NONSGML plone.app.event//EN
X-WR-TIMEZONE:America/Sao_Paulo
BEGIN:VEVENT
SUMMARY:2ª Feira de Atividades Farmacêuticas
DTSTART;TZID=America/Sao_Paulo;VALUE=DATE-TIME:20250410T090000
DTEND;TZID=America/Sao_Paulo;VALUE=DATE-TIME:20250410T160000
DTSTAMP;VALUE=DATE-TIME:20260423T005422Z
UID:9f98bee41d7b4c5daff07422341215e3@portal.ufvjm.edu.br
CREATED;VALUE=DATE-TIME:20250408T143131Z
DESCRIPTION:10 de abril
LAST-MODIFIED;VALUE=DATE-TIME:20250408T151314Z
LOCATION:Diamantina/MG
URL:https://portal.ufvjm.edu.br/agendas/eventos/2025/2-feira-de-atividades
 -farmaceuticas
END:VEVENT
BEGIN:VTIMEZONE
TZID:America/Sao_Paulo
X-LIC-LOCATION:America/Sao_Paulo
BEGIN:STANDARD
DTSTART;VALUE=DATE-TIME:20250215T230000
TZNAME:BRT
TZOFFSETFROM:-0200
TZOFFSETTO:-0300
END:STANDARD
END:VTIMEZONE
END:VCALENDAR
