BEGIN:VCALENDAR
VERSION:2.0
PRODID:-//Plone.org//NONSGML plone.app.event//EN
X-WR-TIMEZONE:America/Sao_Paulo
BEGIN:VEVENT
SUMMARY:10º Simpósio Integrado de Administração Pública (Sintap)
DTSTART;TZID=America/Sao_Paulo;VALUE=DATE-TIME:20251205T190000
DTEND;TZID=America/Sao_Paulo;VALUE=DATE-TIME:20251206T170000
DTSTAMP;VALUE=DATE-TIME:20260423T165243Z
UID:7bf8a073128040f7a62833076b10a4c4@portal.ufvjm.edu.br
CREATED;VALUE=DATE-TIME:20251202T150839Z
DESCRIPTION:5 e 6 de dezembro de 2025
LAST-MODIFIED;VALUE=DATE-TIME:20251202T153035Z
LOCATION:on-line
URL:https://portal.ufvjm.edu.br/agendas/eventos/2025/10-simposio-integrado
 -de-administracao-publica-sintap
END:VEVENT
BEGIN:VTIMEZONE
TZID:America/Sao_Paulo
X-LIC-LOCATION:America/Sao_Paulo
BEGIN:DAYLIGHT
DTSTART;VALUE=DATE-TIME:20251019T010000
TZNAME:BRST
TZOFFSETFROM:-0300
TZOFFSETTO:-0200
END:DAYLIGHT
END:VTIMEZONE
END:VCALENDAR
